BEGIN:VCALENDAR
VERSION:2.0
PRODID:-//Attac Liège - ECPv6.6.2//NONSGML v1.0//EN
CALSCALE:GREGORIAN
METHOD:PUBLISH
X-WR-CALNAME:Attac Liège
X-ORIGINAL-URL:https://liege.attac.org
X-WR-CALDESC:évènements pour Attac Liège
REFRESH-INTERVAL;VALUE=DURATION:PT1H
X-Robots-Tag:noindex
X-PUBLISHED-TTL:PT1H
BEGIN:VTIMEZONE
TZID:Europe/Brussels
BEGIN:DAYLIGHT
TZOFFSETFROM:+0100
TZOFFSETTO:+0200
TZNAME:CEST
DTSTART:20200329T010000
END:DAYLIGHT
BEGIN:STANDARD
TZOFFSETFROM:+0200
TZOFFSETTO:+0100
TZNAME:CET
DTSTART:20201025T010000
END:STANDARD
END:VTIMEZONE
BEGIN:VEVENT
DTSTART;TZID=Europe/Brussels:20200203T173000
DTEND;TZID=Europe/Brussels:20200203T193000
DTSTAMP:20260423T221948
CREATED:20200127T113644Z
LAST-MODIFIED:20200127T113644Z
UID:4543-1580751000-1580758200@liege.attac.org
SUMMARY:Collectif liégeois des sans-papiers
DESCRIPTION:Bonjour à toutes et à tous\, \nInvitation à rejoindre le Collectif liégeois de soutien aux sans-papiers ce lundi 3 février ! \nLe 18/12/19\, journée internationale des migrants\, de nombreux citoyens et structures associatives et syndicales se sont mobilisés dans plusieurs villes de Belgique pour réclamer la régularisation des sans-papiers. \nA Liège\, cela fait suite au travail mené par le Collectif liégeois de soutien aux sans-papiers pour 5 revendications (vous les retrouverez en attaché) pendant toute la campagne électorale. Le 18 décembre nous avons marché jusqu’à l’Hôtel de ville et une délégation a été reçue. Le Collectif a proposé une motion à voter par le Conseil communal pour que la ville de Liège porte la revendication de régularisation au niveau fédéral. Le vote a été reporté. La motion porte sur la régularisation sur base de critères clairs à mettre en œuvre par une commission permanente indépendante de l’Office des Etrangers. \nLe 3/2/20\, le Conseil Communal se réunira pour voter cette motion. Soyons nombreux pour soutenir ce vote et peser sur les négociations gouvernementales! \nNous vous invitons à être présents dès 17h30 derrière l’Hôtel de ville\, à l’entrée. Plusieurs interventions sont prévues\, ainsi que des témoignages audios et prestations musicales. \nCollectif liégeois de soutien aux sans-papiers
URL:https://liege.attac.org/event/collectif-liegeois-des-sans-papiers/
CATEGORIES:L'autre Agenda
END:VEVENT
BEGIN:VEVENT
DTSTART;TZID=Europe/Brussels:20200203T193000
DTEND;TZID=Europe/Brussels:20200203T213000
DTSTAMP:20260423T221948
CREATED:20200127T113519Z
LAST-MODIFIED:20200127T113519Z
UID:4541-1580758200-1580765400@liege.attac.org
SUMMARY:Groupe de préparation
DESCRIPTION:Réunion du groupe de préparation des activités sur le climat. \n 
URL:https://liege.attac.org/event/groupe-de-preparation/
LOCATION:Beau-Mur\, Rue du Beau-Mur 48\, Liège\, 4030\, Belgique
CATEGORIES:Réunion Attac
ORGANIZER;CN="Attac Li%C3%A8ge":MAILTO:info@liege.attac.be
END:VEVENT
END:VCALENDAR