BEGIN:VCALENDAR
VERSION:2.0
PRODID:-//Attac Liège - ECPv6.6.2//NONSGML v1.0//EN
CALSCALE:GREGORIAN
METHOD:PUBLISH
X-WR-CALNAME:Attac Liège
X-ORIGINAL-URL:https://liege.attac.org
X-WR-CALDESC:évènements pour Attac Liège
REFRESH-INTERVAL;VALUE=DURATION:PT1H
X-Robots-Tag:noindex
X-PUBLISHED-TTL:PT1H
BEGIN:VTIMEZONE
TZID:Europe/Brussels
BEGIN:DAYLIGHT
TZOFFSETFROM:+0100
TZOFFSETTO:+0200
TZNAME:CEST
DTSTART:20200329T010000
END:DAYLIGHT
BEGIN:STANDARD
TZOFFSETFROM:+0200
TZOFFSETTO:+0100
TZNAME:CET
DTSTART:20201025T010000
END:STANDARD
END:VTIMEZONE
BEGIN:VEVENT
DTSTART;TZID=Europe/Brussels:20200114T193000
DTEND;TZID=Europe/Brussels:20200114T220000
DTSTAMP:20260423T221856
CREATED:20200107T105929Z
LAST-MODIFIED:20200710T104311Z
UID:4406-1579030200-1579039200@liege.attac.org
SUMMARY:Repair Class de l'économie - Économie de transition\, mais encore ?
DESCRIPTION:A partir du livre de Tim Jackson « Prospérité sans croissance » nous échangerons autour d’autres moyens de faire et de penser l’économie. Prospérité sans croissance formule avec simplicité les enjeux écologiques du développement économique en invitant à imaginer le monde quand il sera peuplé de neuf milliards d’habitants aspirant chacun au revenu des pays de l’OCDE. Le livre s’inspire des théories de la décroissance des années 1970\, notamment des idées de M. Herman Daly\, auteur de The Steady State (1976) qui décrit les caractéristiques d’un état économique stationnaire où population et utilisation des ressources naturelles sont stabilisées. \n  \n 
URL:https://liege.attac.org/event/repair-class-de-leconomie-economie-de-transition-mais-encore/
LOCATION:ULiège Moyen Physique\, Place du XX Aout\, Liège\, 4000\, Belgique
CATEGORIES:Groupes de formation
ORGANIZER;CN="Attac Li%C3%A8ge":MAILTO:info@liege.attac.be
END:VEVENT
END:VCALENDAR