BEGIN:VCALENDAR
VERSION:2.0
PRODID:-//Attac Liège - ECPv6.6.2//NONSGML v1.0//EN
CALSCALE:GREGORIAN
METHOD:PUBLISH
X-WR-CALNAME:Attac Liège
X-ORIGINAL-URL:https://liege.attac.org
X-WR-CALDESC:évènements pour Attac Liège
REFRESH-INTERVAL;VALUE=DURATION:PT1H
X-Robots-Tag:noindex
X-PUBLISHED-TTL:PT1H
BEGIN:VTIMEZONE
TZID:Europe/Brussels
BEGIN:DAYLIGHT
TZOFFSETFROM:+0100
TZOFFSETTO:+0200
TZNAME:CEST
DTSTART:20190331T010000
END:DAYLIGHT
BEGIN:STANDARD
TZOFFSETFROM:+0200
TZOFFSETTO:+0100
TZNAME:CET
DTSTART:20191027T010000
END:STANDARD
END:VTIMEZONE
BEGIN:VEVENT
DTSTART;TZID=Europe/Brussels:20191224T160000
DTEND;TZID=Europe/Brussels:20191224T180000
DTSTAMP:20260424T020803
CREATED:20191219T080351Z
LAST-MODIFIED:20191219T080351Z
UID:4331-1577203200-1577210400@liege.attac.org
SUMMARY:Rassemblement le 24 décembre autour du centre fermé de Vottem
DESCRIPTION:Ce mardi 24 décembre\, nous vous invitons\, comme chaque année\, à vous rassembler avec des bougies autour du centre fermé de Vottem\, entre 16 et 18H\, pour éclairer la face la plus honteuse de la politique d’asile et d’immigration de l’Etat belge\, les centres fermés et les expulsions. \nUne délégation entrera\, composée par des représentants d’associations. Cette délégation apportera un message de solidarité\, un soutien chaleureux surtout\, et une recharge téléphonique pour chacun. Des parlementaires seront également présents\, et adresseront une série de questions à la Direction.  \nChaque centre fermé pour étrangers reste une prison qui cache son nom\, un lieu conçu pour briser la résistance face à l’expulsion. Parce qu’elles n’en peuvent plus de cette privation violente de leur liberté\, parce qu’elles craignent le retour vers les dangers qui les menacent dans leurs pays d’origine\, plusieurs personnes ont mis fin à leurs jours à Vottem ou dans d’autres centres fermés ; et très régulièrement nous sommes informés de tentatives de suicide… \nCette violence imprègne toute la politique d’asile et d’immigration de l’Etat belge. Le gouvernement « en affaires courantes » continue d’expulser\, vers la guerre\, l’insécurité\, et en utilisant la violence. Par exemple l’expulsion d’un jeune homme vers l’Ethiopie le 21 septembre \, d’un autre vers la Somalie le 2 décembre . Ces expulsions n’ont été annulées que grâce à l’intervention solidaire des passagers des vols concernés. Ces deux personnes\, comme beaucoup d’autres\, ont été victimes de coups et blessures portés par la police fédérale à l’aéroport\, et d’insultes racistes\, lors de leurs différentes tentatives d’expulsion. En 2019\, ce sont plusieurs plaintes qui ont été déposées au comité P pour dénoncer cela. \nCe même gouvernement met en application le sinistre plan de l’ex-secrétaire d’Etat Théo Francken consistant à augmenter le nombre de centres fermés et d’expulsions : le centre fermé pour femmes de Hoolsbeek a été ouvert en mai 2019 ; les démarches se poursuivent\, malgré l’opposition sur place des associations et des autorités communales\, pour ouvrir un méga-centre à Jumet. \nPour toutes ces raisons\, même si vous n’avez que quelques minutes\, nous vous demandons d’être présents\, nombreux\, pour que nous soyons vus et entendus pendant ces deux heures! Pour faire entendre à la fois notre solidarité et notre colère!  \nPour soutenir l’action du CRACPE\, et les détenus\, vous pouvez apporter des recharges pour gsm lycamobile à 5 euros\, ou des sous pour en acheter. Rappelons que le gsm est l’unique moyen de communication pour que les mots sortent de Vottem. Dans le même ordre d’idée\, nous récoltons aussi toujours des gsm\, soit nouveaux\, soit anciens\, mais en parfait état de fonctionnement\, avec chargeur\, qui ne font pas de photo. En effet\, comme nous le répétons sans cesse\, l’Office des Etrangers entend bien cacher ce qui se passe dans les centres fermés. \nLa compilation Dedans-Dehors est toujours en vente 10€\, une idée de cadeau en faveur des détenus… \n> Plus d’info sur les différentes manières de nous soutenir ici
URL:https://liege.attac.org/event/rassemblement-le-24-decembre-autour-du-centre-ferme-de-vottem/
LOCATION:Centre fermé\, Vottem
CATEGORIES:L'autre Agenda
END:VEVENT
END:VCALENDAR