BEGIN:VCALENDAR
VERSION:2.0
PRODID:-//Attac Liège - ECPv6.6.2//NONSGML v1.0//EN
CALSCALE:GREGORIAN
METHOD:PUBLISH
X-WR-CALNAME:Attac Liège
X-ORIGINAL-URL:https://liege.attac.org
X-WR-CALDESC:évènements pour Attac Liège
REFRESH-INTERVAL;VALUE=DURATION:PT1H
X-Robots-Tag:noindex
X-PUBLISHED-TTL:PT1H
BEGIN:VTIMEZONE
TZID:Europe/Brussels
BEGIN:DAYLIGHT
TZOFFSETFROM:+0100
TZOFFSETTO:+0200
TZNAME:CEST
DTSTART:20190331T010000
END:DAYLIGHT
BEGIN:STANDARD
TZOFFSETFROM:+0200
TZOFFSETTO:+0100
TZNAME:CET
DTSTART:20191027T010000
END:STANDARD
END:VTIMEZONE
BEGIN:VEVENT
DTSTART;TZID=Europe/Brussels:20191217T193000
DTEND;TZID=Europe/Brussels:20191217T220000
DTSTAMP:20260424T020754
CREATED:20191008T082014Z
LAST-MODIFIED:20200710T104346Z
UID:4061-1576611000-1576620000@liege.attac.org
SUMMARY:Repair Class de l'économie : Les multinationales en Région Wallonne
DESCRIPTION:Repair class de l’économie \nFormation gratuite – 1 séance par mois \n10e séance : Les multinationales en Région Wallonne. \n\nQuelles multinationales sont présentes en Wallonie ?\nQue produisent-elles ?\nQue représentent les exportations wallonnes ?\nPourquoi Attac soutient des PME et s’oppose à l’arrivée d’Alibaba à Liège ?\nQuelles seront les conséquences de la venue du géant chinois à Liège ?\n\nVous cherchez des sujets de conversation en famille pour les repas de fête ? Participez à notre dernier Repair Class de l’économie de l’année et aiguisez vos arguments ! 😃 \nPar Eric Nemes
URL:https://liege.attac.org/event/repair-class-de-leconomie-les-multinationales-en-region-wallonne/
LOCATION:Beau-Mur\, Rue du Beau-Mur 48\, Liège\, 4030\, Belgique
CATEGORIES:Groupes de formation
ORGANIZER;CN="Attac Li%C3%A8ge":MAILTO:info@liege.attac.be
END:VEVENT
END:VCALENDAR