BEGIN:VCALENDAR
VERSION:2.0
PRODID:-//Attac Liège - ECPv6.6.2//NONSGML v1.0//EN
CALSCALE:GREGORIAN
METHOD:PUBLISH
X-WR-CALNAME:Attac Liège
X-ORIGINAL-URL:https://liege.attac.org
X-WR-CALDESC:évènements pour Attac Liège
REFRESH-INTERVAL;VALUE=DURATION:PT1H
X-Robots-Tag:noindex
X-PUBLISHED-TTL:PT1H
BEGIN:VTIMEZONE
TZID:Europe/Brussels
BEGIN:DAYLIGHT
TZOFFSETFROM:+0100
TZOFFSETTO:+0200
TZNAME:CEST
DTSTART:20190331T010000
END:DAYLIGHT
BEGIN:STANDARD
TZOFFSETFROM:+0200
TZOFFSETTO:+0100
TZNAME:CET
DTSTART:20191027T010000
END:STANDARD
END:VTIMEZONE
BEGIN:VEVENT
DTSTART;TZID=Europe/Brussels:20191212T190000
DTEND;TZID=Europe/Brussels:20191212T190000
DTSTAMP:20260424T020824
CREATED:20191118T145544Z
LAST-MODIFIED:20191118T145544Z
UID:4201-1576177200-1576177200@liege.attac.org
SUMMARY:Alibaba et développement de Liège Airport: Suicide climatique?
DESCRIPTION:Conférence débat avec : Isabelle Halleux (représentante du Comité Citoyen Aéroport de Liège-Bierset)\, Cédric Leterme (chargé de recherche au GRESEA)\, Marc Alardeau (géographe\, membre fondateur du collectif Watching Alibaba)\, Raphaël Pilette (architecte\, Mouvement Demain)\, Veronica Cremasco (députée régionale ECOLO) \nOù : Salle Lumière Université de Liège\, place du XX août \nQuand : 12 décembre 2019 à 19h \nOrganisateurs: ACC\, ACJJ\, ATTAC Liège \nPrix Libre
URL:https://liege.attac.org/event/alibaba-et-developpement-de-liege-airport-suicide-climatique/
LOCATION:ULiège\, Place du XX Aout\, Pace du 20 aout\, 4000 Liège
CATEGORIES:L'autre Agenda
END:VEVENT
END:VCALENDAR