BEGIN:VCALENDAR
VERSION:2.0
PRODID:-//Attac Liège - ECPv6.6.2//NONSGML v1.0//EN
CALSCALE:GREGORIAN
METHOD:PUBLISH
X-WR-CALNAME:Attac Liège
X-ORIGINAL-URL:https://liege.attac.org
X-WR-CALDESC:évènements pour Attac Liège
REFRESH-INTERVAL;VALUE=DURATION:PT1H
X-Robots-Tag:noindex
X-PUBLISHED-TTL:PT1H
BEGIN:VTIMEZONE
TZID:Europe/Brussels
BEGIN:DAYLIGHT
TZOFFSETFROM:+0100
TZOFFSETTO:+0200
TZNAME:CEST
DTSTART:20190331T010000
END:DAYLIGHT
BEGIN:STANDARD
TZOFFSETFROM:+0200
TZOFFSETTO:+0100
TZNAME:CET
DTSTART:20191027T010000
END:STANDARD
END:VTIMEZONE
BEGIN:VEVENT
DTSTART;TZID=Europe/Brussels:20191119T193000
DTEND;TZID=Europe/Brussels:20191119T220000
DTSTAMP:20260424T164309
CREATED:20191008T081726Z
LAST-MODIFIED:20200710T104328Z
UID:4058-1574191800-1574200800@liege.attac.org
SUMMARY:Repair Class de l'économie : Comprendre la Libra et les crypto-monnaies
DESCRIPTION:Formation gratuite – 1 séance par mois \n8e séance : Comprendre la Libra et les crypto-monnaies : enjeux monétaires\nDepuis plusieurs mois\, les analystes économiques\, financiers\, comme les politiques s’affairent autour de la nouvelle devise privée créée par Facebook et ses comparses. Et à raison\, car avec 2\,6 milliards d’utilisateurs à portées de main\, les conséquences sociétales de cette monnaie privée sont potentiellement énormes. \nCette présentation visera à clarifier la manière dont la Libra s’intègre sur ce nouveau terrain grandissant des monnaies alternatives. Ses modes d’émission\, les technologies sous-jacentes et les impacts potentiels sur la société.Nous passerons en revue les diverses formes monétaires aux regards des alternatives déjà existantes et nous analyserons la capacité de ces unités de compte à répondre aux besoins économiques et de sociétés traditionnellement associés aux monnaies. \nPar Nicolas Franka \nEn collaboration avec Financité \n 
URL:https://liege.attac.org/event/repair-class-de-leconomie-comprendre-la-libra-et-les-crypto-monnaies/
LOCATION:Beau-Mur\, Rue du Beau-Mur 48\, Liège\, 4030\, Belgique
CATEGORIES:Groupes de formation
ORGANIZER;CN="Attac Li%C3%A8ge":MAILTO:info@liege.attac.be
END:VEVENT
END:VCALENDAR