BEGIN:VCALENDAR
VERSION:2.0
PRODID:-//Attac Liège - ECPv6.6.2//NONSGML v1.0//EN
CALSCALE:GREGORIAN
METHOD:PUBLISH
X-ORIGINAL-URL:https://liege.attac.org
X-WR-CALDESC:évènements pour Attac Liège
REFRESH-INTERVAL;VALUE=DURATION:PT1H
X-Robots-Tag:noindex
X-PUBLISHED-TTL:PT1H
BEGIN:VTIMEZONE
TZID:Europe/Brussels
BEGIN:DAYLIGHT
TZOFFSETFROM:+0100
TZOFFSETTO:+0200
TZNAME:CEST
DTSTART:20190331T010000
END:DAYLIGHT
BEGIN:STANDARD
TZOFFSETFROM:+0200
TZOFFSETTO:+0100
TZNAME:CET
DTSTART:20191027T010000
END:STANDARD
END:VTIMEZONE
BEGIN:VEVENT
DTSTART;TZID=Europe/Brussels:20191115T090000
DTEND;TZID=Europe/Brussels:20191116T170000
DTSTAMP:20260425T054457
CREATED:20191017T075705Z
LAST-MODIFIED:20191017T075705Z
UID:4098-1573808400-1573923600@liege.attac.org
SUMMARY:La foire du livre politique à Liège
DESCRIPTION:Comme chaque année\, nous serons présents à la Foire du livre politique. \nCette année\, nous partagerons un stand avec le CADTM.  \nPlus d’infos : lafoiredulivre.net \n 
URL:https://liege.attac.org/event/la-foire-du-livre-politique-a-liege/
LOCATION:Cité Miroir\, Place Xavier Neujean\, 22\, Liège\, Belgique
CATEGORIES:Stands et Animations
ORGANIZER;CN="Attac Li%C3%A8ge":MAILTO:info@liege.attac.be
END:VEVENT
BEGIN:VEVENT
DTSTART;TZID=Europe/Brussels:20191116T130000
DTEND;TZID=Europe/Brussels:20191116T190000
DTSTAMP:20260425T054457
CREATED:20191114T135956Z
LAST-MODIFIED:20191114T135956Z
UID:4193-1573909200-1573930800@liege.attac.org
SUMMARY:Verviers - 40 ans de finance alternative et solidaire
DESCRIPTION:Le samedi 16 novembre\, Salle de l’Arc-Verviers asbl\, Place Général Jacques\, 16 à Verviers \nInformations pour les coopératives présentes \nNous vous invitons à un évènement sur la finance citoyenne afin de présenter au grand public les possibilités qui existent de donner un sens nouveau à son épargne : le but est donc de faire connaitre votre projet. Nous proposons 2 formules : une présence fixe à un stand pour faire connaitre votre projet et donner la possibilité aux gens de prendre des données pour y investir éventuellement\, mais aussi une brève prise de parole (5 minutes) en alternance avec les différents intervenants sur la grande scène-débat. \nObjectif : présenter en quoi votre projet s’inscrit dans une démarche de finance alternative. \nDéroulement et programme \nA partir de 13H : installation de votre stand  \n\n\n1 table mise à disposition + grille d’exposition sur demande. Merci de nous confirmer le nombre de grilles souhaité. \n\n\n14H : Accueil et ouverture des stands \n14H15 : Présentation du Pivot et des projets soutenus \n14H30 : Intervention d’Éric NEMES (ATTAC) \n15H15 : Intervention de 4 coopératives \n\n\nFinancité > Vins de Herve \n\n\nBocagen > Vervîcoop \n\n\n15H40 : pause active – rencontres\, découverte des stands \n16H : Intervention de Bernard BAYOT et témoignages vidéo \n17H : intervention de 4 coopératives \n\n\nCourant d’Air > Val’heureux \n\n\nHistoire d’un grain > Habitat InVesdre \n\n\n17H25 : Rencontres et Verre de l’amitié \n18H00 : Buffet ouvert \n18H30 : Gâteau pour l’anniversaire du Pivot.
URL:https://liege.attac.org/event/verviers-40-ans-de-finance-alternative-et-solidaire/
LOCATION:Salle de l’Arc-Verviers asbl\, Salle de l’Arc-Verviers asbl\, Place Général Jacques\, 16\, Verviers\, 4800
CATEGORIES:L'autre Agenda
END:VEVENT
END:VCALENDAR