BEGIN:VCALENDAR
VERSION:2.0
PRODID:-//Attac Liège - ECPv6.6.2//NONSGML v1.0//EN
CALSCALE:GREGORIAN
METHOD:PUBLISH
X-WR-CALNAME:Attac Liège
X-ORIGINAL-URL:https://liege.attac.org
X-WR-CALDESC:évènements pour Attac Liège
REFRESH-INTERVAL;VALUE=DURATION:PT1H
X-Robots-Tag:noindex
X-PUBLISHED-TTL:PT1H
BEGIN:VTIMEZONE
TZID:Europe/Brussels
BEGIN:DAYLIGHT
TZOFFSETFROM:+0100
TZOFFSETTO:+0200
TZNAME:CEST
DTSTART:20190331T010000
END:DAYLIGHT
BEGIN:STANDARD
TZOFFSETFROM:+0200
TZOFFSETTO:+0100
TZNAME:CET
DTSTART:20191027T010000
END:STANDARD
END:VTIMEZONE
BEGIN:VEVENT
DTSTART;TZID=Europe/Brussels:20190921T093000
DTEND;TZID=Europe/Brussels:20190921T200000
DTSTAMP:20260425T225517
CREATED:20190909T123939Z
LAST-MODIFIED:20190909T123939Z
UID:3899-1569058200-1569096000@liege.attac.org
SUMMARY:Tempo Color
DESCRIPTION:21/09/2019 petit-déjeuner & mobilisation solidaires\nUne journée en espaces publics pour découvrir des interpellations et mobilisations solidaires\, pour rencontrer d’autres manières de penser et d’appréhender le monde et des alternatives citoyennes ou associatives\, pour s’adonner à des ateliers\, pour visiter une exposition\, pour découvrir des propositions artistiques et citoyennes surprenantes et enthousiasmantes … \nAccès gratuit à toutes les activités du samedi 21/09/2019. \nPlus d’infos \n 
URL:https://liege.attac.org/event/tempo-color-2/
LOCATION:Place Cathédrale à Liège\, Place Cathédrale\, Liège
CATEGORIES:L'autre Agenda
ORGANIZER;CN="Attac Li%C3%A8ge":MAILTO:info@liege.attac.be
END:VEVENT
END:VCALENDAR